Package: NBAMSeq Version: 1.22.0 Command: /Library/Frameworks/R.framework/Resources/bin/R CMD INSTALL NBAMSeq StartedAt: 2025-03-31 17:18:08 -0400 (Mon, 31 Mar 2025) EndedAt: 2025-03-31 17:18:42 -0400 (Mon, 31 Mar 2025) EllapsedTime: 34.0 seconds RetCode: 0 Status: OK