Package: NBAMSeq Version: 1.22.0 Command: /Library/Frameworks/R.framework/Resources/bin/R CMD build --keep-empty-dirs --no-resave-data NBAMSeq StartedAt: 2025-04-01 04:12:58 -0400 (Tue, 01 Apr 2025) EndedAt: 2025-04-01 04:14:00 -0400 (Tue, 01 Apr 2025) EllapsedTime: 61.6 seconds RetCode: 0 Status: OK PackageFile: NBAMSeq_1.22.0.tar.gz PackageFileSize: 343.7 KiB