Package: NADfinder Version: 1.30.0 Command: /home/biocbuild/R/R/bin/R CMD INSTALL NADfinder StartedAt: 2025-03-31 21:01:41 -0000 (Mon, 31 Mar 2025) EndedAt: 2025-03-31 21:03:10 -0000 (Mon, 31 Mar 2025) EllapsedTime: 88.8 seconds RetCode: 0 Status: OK