Package: NADfinder Version: 1.30.0 Command: /home/biocbuild/R/R/bin/R CMD check --install=check:NADfinder.install-out.txt --library=/home/biocbuild/R/R/site-library --no-vignettes --timings NADfinder_1.30.0.tar.gz StartedAt: 2025-04-01 08:49:39 -0000 (Tue, 01 Apr 2025) EndedAt: 2025-04-01 09:00:49 -0000 (Tue, 01 Apr 2025) EllapsedTime: 670.1 seconds RetCode: 0 Status: OK CheckDir: NADfinder.Rcheck Warnings: 0