Package: NADfinder Version: 1.30.0 Command: F:\biocbuild\bbs-3.20-bioc\R\bin\R.exe CMD INSTALL NADfinder StartedAt: 2025-01-27 16:49:02 -0500 (Mon, 27 Jan 2025) EndedAt: 2025-01-27 16:50:27 -0500 (Mon, 27 Jan 2025) EllapsedTime: 85.9 seconds RetCode: 0 Status: OK