Package: MutationalPatterns Version: 3.16.0 Command: /Library/Frameworks/R.framework/Resources/bin/R CMD build --keep-empty-dirs --no-resave-data MutationalPatterns StartedAt: 2025-03-31 20:30:34 -0400 (Mon, 31 Mar 2025) EndedAt: 2025-03-31 20:35:43 -0400 (Mon, 31 Mar 2025) EllapsedTime: 309.0 seconds RetCode: 1 Status: ERROR PackageFile: None PackageFileSize: NA