Package: MungeSumstats Version: 1.14.1 Command: rm -rf MungeSumstats.buildbin-libdir && mkdir MungeSumstats.buildbin-libdir && F:\biocbuild\bbs-3.20-bioc\R\bin\R.exe CMD INSTALL --build --library=MungeSumstats.buildbin-libdir MungeSumstats_1.14.1.tar.gz StartedAt: 2025-01-28 08:40:05 -0500 (Tue, 28 Jan 2025) EndedAt: 2025-01-28 08:41:45 -0500 (Tue, 28 Jan 2025) EllapsedTime: 100.6 seconds RetCode: 0 Status: OK PackageFile: MungeSumstats_1.14.1.zip PackageFileSize: 2.768 MiB