Package: MungeSumstats Version: 1.14.1 Command: /home/biocbuild/bbs-3.20-bioc/R/bin/R CMD INSTALL MungeSumstats StartedAt: 2025-03-31 15:29:18 -0400 (Mon, 31 Mar 2025) EndedAt: 2025-03-31 15:29:57 -0400 (Mon, 31 Mar 2025) EllapsedTime: 38.7 seconds RetCode: 0 Status: OK