Package: MungeSumstats Version: 1.14.1 Command: /home/biocbuild/bbs-3.20-bioc/R/bin/R CMD check --install=check:MungeSumstats.install-out.txt --library=/home/biocbuild/bbs-3.20-bioc/R/site-library --timings MungeSumstats_1.14.1.tar.gz StartedAt: 2025-04-01 00:21:15 -0400 (Tue, 01 Apr 2025) EndedAt: 2025-04-01 00:39:38 -0400 (Tue, 01 Apr 2025) EllapsedTime: 1103.3 seconds RetCode: 0 Status: OK CheckDir: MungeSumstats.Rcheck Warnings: 0