Package: MungeSumstats Version: 1.14.1 Command: /home/biocbuild/bbs-3.20-bioc/R/bin/R CMD build --keep-empty-dirs --no-resave-data --md5 MungeSumstats StartedAt: 2025-03-31 18:14:42 -0400 (Mon, 31 Mar 2025) EndedAt: 2025-03-31 18:16:00 -0400 (Mon, 31 Mar 2025) EllapsedTime: 77.1 seconds RetCode: 0 Status: OK PackageFile: MungeSumstats_1.14.1.tar.gz PackageFileSize: 2.384 MiB