Package: MungeSumstats Version: 1.14.1 Command: /Library/Frameworks/R.framework/Resources/bin/R CMD check --install=check:MungeSumstats.install-out.txt --library=/Library/Frameworks/R.framework/Resources/library --no-vignettes --timings MungeSumstats_1.14.1.tar.gz StartedAt: 2025-01-29 02:32:39 -0500 (Wed, 29 Jan 2025) EndedAt: 2025-01-29 02:49:19 -0500 (Wed, 29 Jan 2025) EllapsedTime: 1000.1 seconds RetCode: 0 Status: OK CheckDir: MungeSumstats.Rcheck Warnings: 0