Package: MungeSumstats Version: 1.14.1 Command: rm -rf MungeSumstats.buildbin-libdir && mkdir MungeSumstats.buildbin-libdir && /Users/biocbuild/BBS/utils/build-universal.sh MungeSumstats_1.14.1.tar.gz /Library/Frameworks/R.framework/Resources/bin/R MungeSumstats.buildbin-libdir StartedAt: 2025-01-29 15:41:02 -0500 (Wed, 29 Jan 2025) EndedAt: 2025-01-29 15:41:58 -0500 (Wed, 29 Jan 2025) EllapsedTime: 55.7 seconds RetCode: 0 Status: OK PackageFile: MungeSumstats_1.14.1.tgz PackageFileSize: 2.755 MiB