Package: MultimodalExperiment Version: 1.6.0 Command: /home/biocbuild/R/R/bin/R CMD INSTALL MultimodalExperiment StartedAt: 2025-02-03 20:33:12 -0000 (Mon, 03 Feb 2025) EndedAt: 2025-02-03 20:33:46 -0000 (Mon, 03 Feb 2025) EllapsedTime: 34.2 seconds RetCode: 0 Status: OK