Package: MultimodalExperiment Version: 1.6.0 Command: /home/biocbuild/R/R/bin/R CMD build --keep-empty-dirs --no-resave-data MultimodalExperiment StartedAt: 2025-01-28 01:51:45 -0000 (Tue, 28 Jan 2025) EndedAt: 2025-01-28 01:52:38 -0000 (Tue, 28 Jan 2025) EllapsedTime: 53.0 seconds RetCode: 0 Status: OK PackageFile: MultimodalExperiment_1.6.0.tar.gz PackageFileSize: 2.554 MiB