Package: MultimodalExperiment Version: 1.6.0 Command: F:\biocbuild\bbs-3.20-bioc\R\bin\R.exe CMD check --no-multiarch --install=check:MultimodalExperiment.install-out.txt --library=F:\biocbuild\bbs-3.20-bioc\R\library --no-vignettes --timings MultimodalExperiment_1.6.0.tar.gz StartedAt: 2025-01-28 03:57:05 -0500 (Tue, 28 Jan 2025) EndedAt: 2025-01-28 04:00:37 -0500 (Tue, 28 Jan 2025) EllapsedTime: 212.4 seconds RetCode: 0 Status: OK CheckDir: MultimodalExperiment.Rcheck Warnings: 0