Package: MultimodalExperiment Version: 1.6.0 Command: rm -rf MultimodalExperiment.buildbin-libdir && mkdir MultimodalExperiment.buildbin-libdir && F:\biocbuild\bbs-3.20-bioc\R\bin\R.exe CMD INSTALL --build --library=MultimodalExperiment.buildbin-libdir MultimodalExperiment_1.6.0.tar.gz StartedAt: 2025-01-28 08:39:53 -0500 (Tue, 28 Jan 2025) EndedAt: 2025-01-28 08:45:43 -0500 (Tue, 28 Jan 2025) EllapsedTime: 349.9 seconds RetCode: 0 Status: OK PackageFile: MultimodalExperiment_1.6.0.zip PackageFileSize: 4.453 MiB