Package: MultimodalExperiment Version: 1.6.0 Command: /Library/Frameworks/R.framework/Resources/bin/R CMD build --keep-empty-dirs --no-resave-data MultimodalExperiment StartedAt: 2025-01-27 20:59:12 -0500 (Mon, 27 Jan 2025) EndedAt: 2025-01-27 21:01:02 -0500 (Mon, 27 Jan 2025) EllapsedTime: 109.7 seconds RetCode: 0 Status: OK PackageFile: MultimodalExperiment_1.6.0.tar.gz PackageFileSize: 2.532 MiB