Package: MultimodalExperiment Version: 1.6.0 Command: rm -rf MultimodalExperiment.buildbin-libdir && mkdir MultimodalExperiment.buildbin-libdir && /Users/biocbuild/BBS/utils/build-universal.sh MultimodalExperiment_1.6.0.tar.gz /Library/Frameworks/R.framework/Resources/bin/R MultimodalExperiment.buildbin-libdir StartedAt: 2025-01-28 13:52:25 -0500 (Tue, 28 Jan 2025) EndedAt: 2025-01-28 13:54:11 -0500 (Tue, 28 Jan 2025) EllapsedTime: 106.5 seconds RetCode: 0 Status: OK PackageFile: MultimodalExperiment_1.6.0.tgz PackageFileSize: 4.295 MiB