Package: MultiRNAflow Version: 1.4.0 Command: /home/biocbuild/R/R/bin/R CMD INSTALL MultiRNAflow StartedAt: 2025-01-27 22:02:35 -0000 (Mon, 27 Jan 2025) EndedAt: 2025-01-27 22:03:28 -0000 (Mon, 27 Jan 2025) EllapsedTime: 53.2 seconds RetCode: 0 Status: OK