Package: MultiRNAflow Version: 1.4.0 Command: /home/biocbuild/R/R/bin/R CMD check --install=check:MultiRNAflow.install-out.txt --library=/home/biocbuild/R/R/site-library --no-vignettes --timings MultiRNAflow_1.4.0.tar.gz StartedAt: 2025-04-01 08:46:02 -0000 (Tue, 01 Apr 2025) EndedAt: 2025-04-01 08:57:24 -0000 (Tue, 01 Apr 2025) EllapsedTime: 682.1 seconds RetCode: 0 Status: WARNINGS CheckDir: MultiRNAflow.Rcheck Warnings: 1