Package: MultiRNAflow Version: 1.4.0 Command: /home/biocbuild/R/R/bin/R CMD build --keep-empty-dirs --no-resave-data MultiRNAflow StartedAt: 2025-01-28 01:51:56 -0000 (Tue, 28 Jan 2025) EndedAt: 2025-01-28 01:58:42 -0000 (Tue, 28 Jan 2025) EllapsedTime: 406.2 seconds RetCode: 0 Status: OK PackageFile: MultiRNAflow_1.4.0.tar.gz PackageFileSize: 3.155 MiB