Package: MultiRNAflow Version: 1.4.0 Command: /home/biocbuild/bbs-3.20-bioc/R/bin/R CMD INSTALL MultiRNAflow StartedAt: 2025-03-31 15:59:59 -0400 (Mon, 31 Mar 2025) EndedAt: 2025-03-31 16:00:41 -0400 (Mon, 31 Mar 2025) EllapsedTime: 42.0 seconds RetCode: 0 Status: OK