Package: MultiRNAflow Version: 1.4.0 Command: /Library/Frameworks/R.framework/Resources/bin/R CMD build --keep-empty-dirs --no-resave-data MultiRNAflow StartedAt: 2025-01-28 04:12:34 -0500 (Tue, 28 Jan 2025) EndedAt: 2025-01-28 04:18:27 -0500 (Tue, 28 Jan 2025) EllapsedTime: 353.5 seconds RetCode: 0 Status: OK PackageFile: MultiRNAflow_1.4.0.tar.gz PackageFileSize: 3.142 MiB