Package: MultiRNAflow Version: 1.4.0 Command: rm -rf MultiRNAflow.buildbin-libdir && mkdir MultiRNAflow.buildbin-libdir && /Users/biocbuild/BBS/utils/build-universal.sh MultiRNAflow_1.4.0.tar.gz /Library/Frameworks/R.framework/Resources/bin/R MultiRNAflow.buildbin-libdir StartedAt: 2025-01-29 15:40:16 -0500 (Wed, 29 Jan 2025) EndedAt: 2025-01-29 15:41:17 -0500 (Wed, 29 Jan 2025) EllapsedTime: 60.3 seconds RetCode: 0 Status: OK PackageFile: MultiRNAflow_1.4.0.tgz PackageFileSize: 3.026 MiB