Package: MultiMed Version: 2.28.0 Command: rm -rf MultiMed.buildbin-libdir && mkdir MultiMed.buildbin-libdir && /Users/biocbuild/BBS/utils/build-universal.sh MultiMed_2.28.0.tar.gz /Library/Frameworks/R.framework/Resources/bin/R MultiMed.buildbin-libdir StartedAt: 2025-04-01 12:20:05 -0400 (Tue, 01 Apr 2025) EndedAt: 2025-04-01 12:20:10 -0400 (Tue, 01 Apr 2025) EllapsedTime: 5.7 seconds RetCode: 0 Status: OK PackageFile: MultiMed_2.28.0.tgz PackageFileSize: 525.7 KiB