Package: MultiDataSet Version: 1.34.0 Command: /home/biocbuild/R/R/bin/R CMD check --install=check:MultiDataSet.install-out.txt --library=/home/biocbuild/R/R/site-library --no-vignettes --timings MultiDataSet_1.34.0.tar.gz StartedAt: 2025-01-28 09:21:13 -0000 (Tue, 28 Jan 2025) EndedAt: 2025-01-28 09:24:31 -0000 (Tue, 28 Jan 2025) EllapsedTime: 198.3 seconds RetCode: 0 Status: WARNINGS CheckDir: MultiDataSet.Rcheck Warnings: 1