Package: MultiDataSet Version: 1.34.0 Command: F:\biocbuild\bbs-3.20-bioc\R\bin\R.exe CMD INSTALL MultiDataSet StartedAt: 2025-03-31 15:52:25 -0400 (Mon, 31 Mar 2025) EndedAt: 2025-03-31 15:53:22 -0400 (Mon, 31 Mar 2025) EllapsedTime: 57.0 seconds RetCode: 0 Status: OK