Package: MultiDataSet Version: 1.34.0 Command: /Library/Frameworks/R.framework/Resources/bin/R CMD INSTALL MultiDataSet StartedAt: 2025-01-27 15:27:18 -0500 (Mon, 27 Jan 2025) EndedAt: 2025-01-27 15:28:18 -0500 (Mon, 27 Jan 2025) EllapsedTime: 59.8 seconds RetCode: 0 Status: OK