Package: MultiDataSet Version: 1.34.0 Command: /Library/Frameworks/R.framework/Resources/bin/R CMD check --install=check:MultiDataSet.install-out.txt --library=/Library/Frameworks/R.framework/Resources/library --no-vignettes --timings MultiDataSet_1.34.0.tar.gz StartedAt: 2025-02-12 02:46:07 -0500 (Wed, 12 Feb 2025) EndedAt: 2025-02-12 02:49:19 -0500 (Wed, 12 Feb 2025) EllapsedTime: 192.6 seconds RetCode: 0 Status: WARNINGS CheckDir: MultiDataSet.Rcheck Warnings: 1