Package: MultiBaC
Version: 1.16.0
Command: /home/biocbuild/R/R/bin/R CMD INSTALL MultiBaC
StartedAt: 2025-03-31 21:03:03 -0000 (Mon, 31 Mar 2025)
EndedAt: 2025-03-31 21:03:09 -0000 (Mon, 31 Mar 2025)
EllapsedTime: 6.2 seconds
RetCode: 0
Status: OK