Package: MultiAssayExperiment Version: 1.32.0 Command: F:\biocbuild\bbs-3.20-bioc\R\bin\R.exe CMD INSTALL MultiAssayExperiment StartedAt: 2025-03-31 15:53:28 -0400 (Mon, 31 Mar 2025) EndedAt: 2025-03-31 15:56:36 -0400 (Mon, 31 Mar 2025) EllapsedTime: 188.7 seconds RetCode: 0 Status: OK