Package: MultiAssayExperiment Version: 1.32.0 Command: F:\biocbuild\bbs-3.20-bioc\R\bin\R.exe CMD check --no-multiarch --install=check:MultiAssayExperiment.install-out.txt --library=F:\biocbuild\bbs-3.20-bioc\R\library --no-vignettes --timings MultiAssayExperiment_1.32.0.tar.gz StartedAt: 2025-04-01 03:53:32 -0400 (Tue, 01 Apr 2025) EndedAt: 2025-04-01 03:58:23 -0400 (Tue, 01 Apr 2025) EllapsedTime: 291.0 seconds RetCode: 0 Status: OK CheckDir: MultiAssayExperiment.Rcheck Warnings: 0