Package: MultiAssayExperiment Version: 1.32.0 Command: rm -rf MultiAssayExperiment.buildbin-libdir && mkdir MultiAssayExperiment.buildbin-libdir && F:\biocbuild\bbs-3.20-bioc\R\bin\R.exe CMD INSTALL --build --library=MultiAssayExperiment.buildbin-libdir MultiAssayExperiment_1.32.0.tar.gz StartedAt: 2025-01-28 08:39:25 -0500 (Tue, 28 Jan 2025) EndedAt: 2025-01-28 08:50:32 -0500 (Tue, 28 Jan 2025) EllapsedTime: 667.1 seconds RetCode: 0 Status: OK PackageFile: MultiAssayExperiment_1.32.0.zip PackageFileSize: 1.981 MiB