Package: MultiAssayExperiment Version: 1.32.0 Command: /home/biocbuild/bbs-3.20-bioc/R/bin/R CMD INSTALL MultiAssayExperiment StartedAt: 2025-02-10 15:20:16 -0500 (Mon, 10 Feb 2025) EndedAt: 2025-02-10 15:20:45 -0500 (Mon, 10 Feb 2025) EllapsedTime: 28.8 seconds RetCode: 0 Status: OK