Package: MultiAssayExperiment Version: 1.32.0 Command: /Library/Frameworks/R.framework/Resources/bin/R CMD INSTALL MultiAssayExperiment StartedAt: 2025-02-03 15:26:16 -0500 (Mon, 03 Feb 2025) EndedAt: 2025-02-03 15:27:25 -0500 (Mon, 03 Feb 2025) EllapsedTime: 68.6 seconds RetCode: 0 Status: OK