Package: MultiAssayExperiment Version: 1.32.0 Command: /Library/Frameworks/R.framework/Resources/bin/R CMD check --install=check:MultiAssayExperiment.install-out.txt --library=/Library/Frameworks/R.framework/Resources/library --no-vignettes --timings MultiAssayExperiment_1.32.0.tar.gz StartedAt: 2025-02-04 06:58:41 -0500 (Tue, 04 Feb 2025) EndedAt: 2025-02-04 07:06:51 -0500 (Tue, 04 Feb 2025) EllapsedTime: 489.9 seconds RetCode: 0 Status: OK CheckDir: MultiAssayExperiment.Rcheck Warnings: 0