Package: MultiAssayExperiment Version: 1.32.0 Command: /Library/Frameworks/R.framework/Resources/bin/R CMD build --keep-empty-dirs --no-resave-data MultiAssayExperiment StartedAt: 2025-01-27 20:58:11 -0500 (Mon, 27 Jan 2025) EndedAt: 2025-01-27 21:01:11 -0500 (Mon, 27 Jan 2025) EllapsedTime: 179.4 seconds RetCode: 0 Status: OK PackageFile: MultiAssayExperiment_1.32.0.tar.gz PackageFileSize: 1.15 MiB