Package: MultiAssayExperiment Version: 1.32.0 Command: /Library/Frameworks/R.framework/Resources/bin/R CMD INSTALL MultiAssayExperiment StartedAt: 2024-11-08 15:17:50 -0500 (Fri, 08 Nov 2024) EndedAt: 2024-11-08 15:18:02 -0500 (Fri, 08 Nov 2024) EllapsedTime: 11.6 seconds RetCode: 0 Status: OK