Package: MultiAssayExperiment Version: 1.32.0 Command: /Library/Frameworks/R.framework/Resources/bin/R CMD check --install=check:MultiAssayExperiment.install-out.txt --library=/Library/Frameworks/R.framework/Resources/library --no-vignettes --timings MultiAssayExperiment_1.32.0.tar.gz StartedAt: 2025-04-02 02:14:01 -0400 (Wed, 02 Apr 2025) EndedAt: 2025-04-02 02:18:06 -0400 (Wed, 02 Apr 2025) EllapsedTime: 245.1 seconds RetCode: 0 Status: OK CheckDir: MultiAssayExperiment.Rcheck Warnings: 0