Package: Mulcom Version: 1.56.0 Command: /home/biocbuild/R/R/bin/R CMD check --install=check:Mulcom.install-out.txt --library=/home/biocbuild/R/R/site-library --no-vignettes --timings Mulcom_1.56.0.tar.gz StartedAt: 2025-01-28 09:19:25 -0000 (Tue, 28 Jan 2025) EndedAt: 2025-01-28 09:20:28 -0000 (Tue, 28 Jan 2025) EllapsedTime: 63.1 seconds RetCode: 0 Status: WARNINGS CheckDir: Mulcom.Rcheck Warnings: 1