Package: Mulcom Version: 1.56.0 Command: /home/biocbuild/R/R/bin/R CMD build --keep-empty-dirs --no-resave-data Mulcom StartedAt: 2025-04-01 01:03:33 -0000 (Tue, 01 Apr 2025) EndedAt: 2025-04-01 01:03:34 -0000 (Tue, 01 Apr 2025) EllapsedTime: 1.0 seconds RetCode: 0 Status: OK PackageFile: Mulcom_1.56.0.tar.gz PackageFileSize: 1.095 MiB