Package: MuData Version: 1.10.0 Command: /Library/Frameworks/R.framework/Resources/bin/R CMD INSTALL MuData StartedAt: 2025-01-27 15:27:56 -0500 (Mon, 27 Jan 2025) EndedAt: 2025-01-27 15:28:24 -0500 (Mon, 27 Jan 2025) EllapsedTime: 28.7 seconds RetCode: 0 Status: OK