Package: MuData Version: 1.10.0 Command: /Library/Frameworks/R.framework/Resources/bin/R CMD build --keep-empty-dirs --no-resave-data MuData StartedAt: 2025-02-04 04:17:35 -0500 (Tue, 04 Feb 2025) EndedAt: 2025-02-04 04:21:27 -0500 (Tue, 04 Feb 2025) EllapsedTime: 232.3 seconds RetCode: 0 Status: OK PackageFile: MuData_1.10.0.tar.gz PackageFileSize: 2.25 MiB