Package: MuData Version: 1.10.0 Command: rm -rf MuData.buildbin-libdir && mkdir MuData.buildbin-libdir && /Users/biocbuild/BBS/utils/build-universal.sh MuData_1.10.0.tar.gz /Library/Frameworks/R.framework/Resources/bin/R MuData.buildbin-libdir StartedAt: 2025-01-29 15:39:13 -0500 (Wed, 29 Jan 2025) EndedAt: 2025-01-29 15:39:45 -0500 (Wed, 29 Jan 2025) EllapsedTime: 32.6 seconds RetCode: 0 Status: OK PackageFile: MuData_1.10.0.tgz PackageFileSize: 2.296 MiB