Package: MsQuality Version: 1.6.2 Command: /home/biocbuild/R/R/bin/R CMD INSTALL MsQuality StartedAt: 2025-01-27 21:43:22 -0000 (Mon, 27 Jan 2025) EndedAt: 2025-01-27 21:44:04 -0000 (Mon, 27 Jan 2025) EllapsedTime: 41.6 seconds RetCode: 0 Status: OK