Package: MsQuality Version: 1.6.2 Command: /home/biocbuild/R/R/bin/R CMD build --keep-empty-dirs --no-resave-data MsQuality StartedAt: 2025-01-28 01:48:49 -0000 (Tue, 28 Jan 2025) EndedAt: 2025-01-28 01:50:02 -0000 (Tue, 28 Jan 2025) EllapsedTime: 73.0 seconds RetCode: 0 Status: OK PackageFile: MsQuality_1.6.2.tar.gz PackageFileSize: 4.479 MiB