Package: MsQuality Version: 1.6.2 Command: F:\biocbuild\bbs-3.20-bioc\R\bin\R.exe CMD check --no-multiarch --install=check:MsQuality.install-out.txt --library=F:\biocbuild\bbs-3.20-bioc\R\library --no-vignettes --timings MsQuality_1.6.2.tar.gz StartedAt: 2025-01-28 03:51:11 -0500 (Tue, 28 Jan 2025) EndedAt: 2025-01-28 04:17:36 -0500 (Tue, 28 Jan 2025) EllapsedTime: 1584.9 seconds RetCode: 0 Status: OK CheckDir: MsQuality.Rcheck Warnings: 0