Package: MsQuality Version: 1.6.2 Command: rm -rf MsQuality.buildbin-libdir && mkdir MsQuality.buildbin-libdir && F:\biocbuild\bbs-3.20-bioc\R\bin\R.exe CMD INSTALL --build --library=MsQuality.buildbin-libdir MsQuality_1.6.2.tar.gz StartedAt: 2025-01-28 08:38:43 -0500 (Tue, 28 Jan 2025) EndedAt: 2025-01-28 08:39:39 -0500 (Tue, 28 Jan 2025) EllapsedTime: 55.8 seconds RetCode: 0 Status: OK PackageFile: MsQuality_1.6.2.zip PackageFileSize: 4.386 MiB