Package: MsFeatures Version: 1.14.0 Command: /home/biocbuild/R/R/bin/R CMD INSTALL MsFeatures StartedAt: 2025-02-03 20:31:27 -0000 (Mon, 03 Feb 2025) EndedAt: 2025-02-03 20:31:52 -0000 (Mon, 03 Feb 2025) EllapsedTime: 25.9 seconds RetCode: 0 Status: OK