Package: MsFeatures Version: 1.14.0 Command: /home/biocbuild/bbs-3.20-bioc/R/bin/R CMD INSTALL MsFeatures StartedAt: 2025-03-31 15:16:25 -0400 (Mon, 31 Mar 2025) EndedAt: 2025-03-31 15:16:45 -0400 (Mon, 31 Mar 2025) EllapsedTime: 19.7 seconds RetCode: 0 Status: OK